BEGIN:VCALENDAR
VERSION:2.0
PRODID:-//Trawler-Calendar-Tool 0.2
METHOD:PUBLISH
BEGIN:VTIMEZONE
TZID:Europe/Berlin
BEGIN:STANDARD
TZNAME:CET
DTSTART:20100101T010000
RRULE:FREQ=YEARLY;BYDAY=-1SU;BYMONTH=10
TZOFFSETFROM:+0200
TZOFFSETTO:+0100
END:STANDARD
BEGIN:DAYLIGHT
TZNAME:CEST
DTSTART:20100101T010000
RRULE:FREQ=YEARLY;BYDAY=-1SU;BYMONTH=3
TZOFFSETFROM:+0100
TZOFFSETTO:+0200
END:DAYLIGHT
END:VTIMEZONE
X-WR-TIMEZONE:Europe/Berlin
X-ORIGINAL-URL:https://www.spd-bahnhof-gutleut.de/termine/
BEGIN:VEVENT
DTSTART;TZID=Europe/Berlin:20260714T193000
DTEND;TZID=Europe/Berlin:20260714T220000
LOCATION:Ev. Hoffungsgemeinde 1. OG\, Hafenstraße 7\, Frankfurt
SUMMARY:Ortsvereinssitzung
DESCRIPTION:Unsere monatliche Sitzung mit Austausch zu aktuellen politischen
   Themen\, Neues aus unserem Viertel und der Stadtpolitik. Interessierte
   Gäste sind jederzeit gerne willkommen.
X-ALT-DESC;FMTTYPE=text/plain:Unsere monatliche Sitzung mit Austausch zu aktuellen politischen
   Themen\, Neues aus unserem Viertel und der Stadtpolitik. Interessierte
   G&auml\;ste sind jederzeit gerne willkommen.
PRIORITY:5
UID:wscms52892-bahngl-5cda8efb8a39bce3eba3a91071a4821d
URL:https://www.spd-bahnhof-gutleut.de/calendar52892.ics
END:VEVENT
END:VCALENDAR